BEGIN:VCALENDAR
VERSION:2.0
PRODID:-//artifica.one//Villars-Saint-Georges//FR
CALSCALE:GREGORIAN
METHOD:PUBLISH
BEGIN:VEVENT
SUMMARY:AP Déterminant une zone réglementée suite à un
  foyer de DNCB - 12 octobre 2025
UID:3258
SEQUENCE:0
STATUS:CONFIRMED
TRANSP:TRANSPARENT
DTSTART:20251012T060000Z
DTEND:20251012T180000Z
DTSTAMP:20251013T101404Z

DESCRIPTION:
URL:https://www.mairie-villarsstgeorges.fr/agenda/ap-determinant-une-zone-reglementee-suite-a-un-foyer-de-dncb-12-octobre-2025-3258
END:VEVENT
END:VCALENDAR
